Workbook

Sheet INFO
B2: INFO: 1. Lampiran ini perlu diisi oleh Pegawai Bertanggungjawab Organisasi (PBO) yang telah dilantik oleh organisasi sahaja. 2. PBO hendaklah mengumpulkan maklumat semua permohonan dan diisi di dalam sheet Senarai Pemerhati. 3. Setiap individu yang memohon sebagai pemerhati perlu melengkapkan dan menandatangani LAMPIRAN B - KOD ETIKA DAN AKU JANJI. 4. PBO hendaklah memastikan semua dokumen yang diperlukan dihantar kepada Sekretariat Pemerhati SPR melalui e-mel pemerhati@spr.gov.my sebelum tarikh tutup permohonan. CARA PENGISIAN: 1. Mengisi maklumat pemohon (nama, no kad pengenalan, no telefon dan e-mel). 2. Mengisi maklumat saiz baju, zon taklimat dan Parlimen (mengikut senarai dropdown yang telah disediakan). 3. Maklumat DUN akan diisi secara automatik mengikut Parlimen yang dipilih. *Setiap organisasi hanya boleh menghantar maksimum 4 orang pemerhati sahaja bagi 1 Parlimen. *Senarai ringkas jumlah Parlimen yang dipilih boleh dilihat melalui sheet ADMIN. *Maklumat lanjut boleh dirujuk ke portal rasmi SPR di www.spr.gov.my. Sekretariat Pemerhati Suruhanjaya Pilihan Raya

Sheet Senarai Pemerhati
A3: BIL | B3: MAKLUMAT PEMOHON | F3: MAKLUMAT PEMERHATI
B4: NAMA PENUH PEMERHATI (BESERTA SALUTASI : DATUK / DR / ENCIK / PUAN / CIK / dll) | C4: NO. KAD PENGENALAN | D4: NO. TELEFON | E4: E-MEL | F4: SAIZ BAJU | G4: ZON LATIHAN | H4: PARLIMEN YANG DIPILIH (SETIAP PARLIMEN HANYA TERHAD KEPADA 4 ORANG SAHAJA) | I4: DUN YANG DIPILIH (BERDASARKAN PARLIMEN)
A5: 1 | I5: =IF(H5="","",VLOOKUP(H5, ADMIN!B3:C27, 2, FALSE))
A6: 2 | I6: =IF(H6="","",VLOOKUP(H6, ADMIN!B3:C27, 2, FALSE))
A7: 3 | I7: =IF(H7="","",VLOOKUP(H7, ADMIN!B3:C27, 2, FALSE))
A8: 4 | I8: =IF(H8="","",VLOOKUP(H8, ADMIN!B3:C27, 2, FALSE))
A9: 5 | I9: =IF(H9="","",VLOOKUP(H9, ADMIN!B3:C27, 2, FALSE))
A10: 6 | I10: =IF(H10="","",VLOOKUP(H10, ADMIN!B3:C27, 2, FALSE))
A11: 7 | I11: =IF(H11="","",VLOOKUP(H11, ADMIN!B3:C27, 2, FALSE))
A12: 8 | I12: =IF(H12="","",VLOOKUP(H12, ADMIN!B3:C27, 2, FALSE))
A13: 9 | I13: =IF(H13="","",VLOOKUP(H13, ADMIN!B3:C27, 2, FALSE))
A14: 10 | I14: =IF(H14="","",VLOOKUP(H14, ADMIN!B3:C27, 2, FALSE))
A15: 11 | I15: =IF(H15="","",VLOOKUP(H15, ADMIN!B3:C27, 2, FALSE))
A16: 12 | I16: =IF(H16="","",VLOOKUP(H16, ADMIN!B3:C27, 2, FALSE))
A17: 13 | I17: =IF(H17="","",VLOOKUP(H17, ADMIN!B3:C27, 2, FALSE))
A18: 14 | I18: =IF(H18="","",VLOOKUP(H18, ADMIN!B3:C27, 2, FALSE))
A19: 15 | I19: =IF(H19="","",VLOOKUP(H19, ADMIN!B3:C27, 2, FALSE))
A20: 16 | I20: =IF(H20="","",VLOOKUP(H20, ADMIN!B3:C27, 2, FALSE))
A21: 17 | I21: =IF(H21="","",VLOOKUP(H21, ADMIN!B3:C27, 2, FALSE))
A22: 18 | I22: =IF(H22="","",VLOOKUP(H22, ADMIN!B3:C27, 2, FALSE))
A23: 19 | I23: =IF(H23="","",VLOOKUP(H23, ADMIN!B3:C27, 2, FALSE))
A24: 20 | I24: =IF(H24="","",VLOOKUP(H24, ADMIN!B3:C27, 2, FALSE))
A25: 21 | I25: =IF(H25="","",VLOOKUP(H25, ADMIN!B3:C27, 2, FALSE))
A26: 22 | I26: =IF(H26="","",VLOOKUP(H26, ADMIN!B3:C27, 2, FALSE))
A27: 23 | I27: =IF(H27="","",VLOOKUP(H27, ADMIN!B3:C27, 2, FALSE))
A28: 24 | I28: =IF(H28="","",VLOOKUP(H28, ADMIN!B3:C27, 2, FALSE))
A29: 25 | I29: =IF(H29="","",VLOOKUP(H29, ADMIN!B3:C27, 2, FALSE))
A30: 26 | I30: =IF(H30="","",VLOOKUP(H30, ADMIN!B3:C27, 2, FALSE))
A31: 27 | I31: =IF(H31="","",VLOOKUP(H31, ADMIN!B3:C27, 2, FALSE))
A32: 28 | I32: =IF(H32="","",VLOOKUP(H32, ADMIN!B3:C27, 2, FALSE))
A33: 29 | I33: =IF(H33="","",VLOOKUP(H33, ADMIN!B3:C27, 2, FALSE))
A34: 30 | I34: =IF(H34="","",VLOOKUP(H34, ADMIN!B3:C27, 2, FALSE))
A35: 31 | I35: =IF(H35="","",VLOOKUP(H35, ADMIN!B3:C27, 2, FALSE))
A36: 32 | I36: =IF(H36="","",VLOOKUP(H36, ADMIN!B3:C27, 2, FALSE))
A37: 33 | I37: =IF(H37="","",VLOOKUP(H37, ADMIN!B3:C27, 2, FALSE))
A38: 34 | I38: =IF(H38="","",VLOOKUP(H38, ADMIN!B3:C27, 2, FALSE))
A39: 35 | I39: =IF(H39="","",VLOOKUP(H39, ADMIN!B3:C27, 2, FALSE))
A40: 36 | I40: =IF(H40="","",VLOOKUP(H40, ADMIN!B3:C27, 2, FALSE))
A41: 37 | I41: =IF(H41="","",VLOOKUP(H41, ADMIN!B3:C27, 2, FALSE))
A42: 38 | I42: =IF(H42="","",VLOOKUP(H42, ADMIN!B3:C27, 2, FALSE))
...

Sheet ADMIN
B2: PARLIMEN | C2: DUN | D2: JUMLAH PILIHAN
B3: P.167 Kudat | C3: N.01 Banggi N.02 Bengkoka N.03 Pitas N.04 Tanjong Kapor | D3: =COUNTIF('Senarai Pemerhati'!H5:H104,B3) -> 0
B4: P.168 Kota Marudu | C4: N.05 Matunggong N.06 Bandau N.07 Tandek | D4: =COUNTIF('Senarai Pemerhati'!H5:H104,B4) -> 0
B5: P.169 Kota Belud | C5: N.08 Pintasan N.09 Tempasuk N.10 Usukan N.11 Kadamaian | D5: =COUNTIF('Senarai Pemerhati'!H5:H104,B5) -> 0
B6: P.170 Tuaran | C6: N.12 Sulaman N.13 Pantai Dalit N.14 Tamparuli N.15 Kiulu | D6: =COUNTIF('Senarai Pemerhati'!H5:H104,B6) -> 0
B7: P.171 Sepanggar | C7: N.16 Karambunai N.17 Darau N.18 Inanam | D7: =COUNTIF('Senarai Pemerhati'!H5:H104,B7) -> 0
B8: =PROPER("P.172 KOTA KINABALU") -> P.172 Kota Kinabalu | C8: N.19 Likas N.20 Api-Api N.21 Luyang | D8: =COUNTIF('Senarai Pemerhati'!H5:H104,B8) -> 0
B9: =PROPER("P.173 PUTATAN") -> P.173 Putatan | C9: N.22 Tanjung Aru N.23 Petagas N.24 Tanjung Keramat | D9: =COUNTIF('Senarai Pemerhati'!H5:H104,B9) -> 0
B10: P.174 Penampang | C10: N.25 Kapayan N.26 Moyog | D10: =COUNTIF('Senarai Pemerhati'!H5:H104,B10) -> 0
B11: =PROPER("P.175 PAPAR") -> P.175 Papar | C11: N.27 Limbahau N.28 Kawang N.29 Pantai Manis | D11: =COUNTIF('Senarai Pemerhati'!H5:H104,B11) -> 0
B12: =PROPER("P.176 KIMANIS") -> P.176 Kimanis | C12: N.30 Bongawan N.31 Membakut | D12: =COUNTIF('Senarai Pemerhati'!H5:H104,B12) -> 0
B13: =PROPER("P.177 BEAUFORT") -> P.177 Beaufort | C13: N.32 Klias N.33 Kuala Penyu | D13: =COUNTIF('Senarai Pemerhati'!H5:H104,B13) -> 0
B14: P.178 Sipitang | C14: N.34 Lumadan N.35 Sindumin | D14: =COUNTIF('Senarai Pemerhati'!H5:H104,B14) -> 0
B15: P.179 Ranau | C15: N.36 Kundasang N.37 Karanaan N.38 Paginatan | D15: =COUNTIF('Senarai Pemerhati'!H5:H104,B15) -> 0
B16: =PROPER("P.180 KENINGAU") -> P.180 Keningau | C16: N.39 Tambunan N.40 Bingkor N.41 Liawan | D16: =COUNTIF('Senarai Pemerhati'!H5:H104,B16) -> 0
B17: P.181 Tenom | C17: N.42 Melalap N.43 Kemabong | D17: =COUNTIF('Senarai Pemerhati'!H5:H104,B17) -> 0
B18: P.182 Pensiangan | C18: N.44 Tulid N.45 Sook N.46 Nabawan | D18: =COUNTIF('Senarai Pemerhati'!H5:H104,B18) -> 0
B19: P.183 Beluran | C19: N.47 Telupid N.48 Sugut N.49 Labuk | D19: =COUNTIF('Senarai Pemerhati'!H5:H104,B19) -> 0
B20: =PROPER("P.184 LIBARAN") -> P.184 Libaran | C20: N.50 Gum-Gum N.51 Sungai Manila N.52 Sungai Sibuga | D20: =COUNTIF('Senarai Pemerhati'!H5:H104,B20) -> 0
B21: =PROPER("P.185 BATU SAPI") -> P.185 Batu Sapi | C21: N.53 Sekong N.54 Karamunting | D21: =COUNTIF('Senarai Pemerhati'!H5:H104,B21) -> 0
B22: =PROPER("P.186 SANDAKAN") -> P.186 Sandakan | C22: N.55 Elopura N.56 Tanjong Papat | D22: =COUNTIF('Senarai Pemerhati'!H5:H104,B22) -> 0
B23: P.187 Kinabatangan | C23: N.57 Kuamut N.58 Lamag N.59 Sukau | D23: =COUNTIF('Senarai Pemerhati'!H5:H104,B23) -> 0
B24: =PROPER("P.188 LAHAD DATU") -> P.188 Lahad Datu | C24: N.60 Tungku N.61 Segama N.62 Silam N.63 Kunak | D24: =COUNTIF('Senarai Pemerhati'!H5:H104,B24) -> 0
B25: P.189 Semporna | C25: N.64 Sulabayan N.65 Senallan N.66 Bugaya | D25: =COUNTIF('Senarai Pemerhati'!H5:H104,B25) -> 0
B26: =PROPER("P.190 TAWAU") -> P.190 Tawau | C26: N.67 Balung N.68 Apas N.69 Sri Tanjong | D26: =COUNTIF('Senarai Pemerhati'!H5:H104,B26) -> 0
B27: =PROPER("P.191 KALABAKAN") -> P.191 Kalabakan | C27: N.70 Kukusan N.71 Tanjung Batu N.72 Merotai N.73 Sebatik | D27: =COUNTIF('Senarai Pemerhati'!H5:H104,B27) -> 0
B28: JUMLAH | D28: =SUM(D3:D27) -> 0

Sheet SPR
B2: Saiz Baju | C2: JUMLAH PILIHAN
B3: Tidak Perlukan Baju & Topi | C3: =COUNTIF('Senarai Pemerhati'!F5:F104,B3) -> 0
B4: M | C4: =COUNTIF('Senarai Pemerhati'!F5:F104,B4) -> 0
B5: L | C5: =COUNTIF('Senarai Pemerhati'!F5:F104,B5) -> 0
B6: XL | C6: =COUNTIF('Senarai Pemerhati'!F5:F104,B6) -> 0
B7: 2XL | C7: =COUNTIF('Senarai Pemerhati'!F5:F104,B7) -> 0
B8: 3XL | C8: =COUNTIF('Senarai Pemerhati'!F5:F104,B8) -> 0
B9: 5XL | C9: =COUNTIF('Senarai Pemerhati'!F5:F104,B9) -> 0
B10: JUMLAH | C10: =SUM(C3:C9) -> 0
B16: Zon Latihan | C16: JUMLAH PILIHAN
B17: Zon 1: Putrajaya | C17: =COUNTIF('Senarai Pemerhati'!G5:G104,B17) -> 0
B18: Zon 2: Kota Kinabalu | C18: =COUNTIF('Senarai Pemerhati'!G5:G104,B18) -> 0
B19: Zon 3: Sandakan | C19: =COUNTIF('Senarai Pemerhati'!G5:G104,B19) -> 0
B20: Zon 4: Tawau | C20: =COUNTIF('Senarai Pemerhati'!G5:G104,B20) -> 0
B21: JUMLAH | C21: =SUM(C17:C20) -> 0
